BEGIN:VCALENDAR
VERSION:2.0
PRODID:-//UAB St. Vincent&#039;s - ECPv6.15.18//NONSGML v1.0//EN
CALSCALE:GREGORIAN
METHOD:PUBLISH
X-WR-CALNAME:UAB St. Vincent&#039;s
X-ORIGINAL-URL:https://uabstvincents.org
X-WR-CALDESC:Events for UAB St. Vincent&#039;s
REFRESH-INTERVAL;VALUE=DURATION:PT1H
X-Robots-Tag:noindex
X-PUBLISHED-TTL:PT1H
BEGIN:VTIMEZONE
TZID:America/Chicago
BEGIN:DAYLIGHT
TZOFFSETFROM:-0600
TZOFFSETTO:-0500
TZNAME:CDT
DTSTART:20240310T080000
END:DAYLIGHT
BEGIN:STANDARD
TZOFFSETFROM:-0500
TZOFFSETTO:-0600
TZNAME:CST
DTSTART:20241103T070000
END:STANDARD
BEGIN:DAYLIGHT
TZOFFSETFROM:-0600
TZOFFSETTO:-0500
TZNAME:CDT
DTSTART:20250309T080000
END:DAYLIGHT
BEGIN:STANDARD
TZOFFSETFROM:-0500
TZOFFSETTO:-0600
TZNAME:CST
DTSTART:20251102T070000
END:STANDARD
BEGIN:DAYLIGHT
TZOFFSETFROM:-0600
TZOFFSETTO:-0500
TZNAME:CDT
DTSTART:20260308T080000
END:DAYLIGHT
BEGIN:STANDARD
TZOFFSETFROM:-0500
TZOFFSETTO:-0600
TZNAME:CST
DTSTART:20261101T070000
END:STANDARD
BEGIN:DAYLIGHT
TZOFFSETFROM:-0600
TZOFFSETTO:-0500
TZNAME:CDT
DTSTART:20270314T080000
END:DAYLIGHT
BEGIN:STANDARD
TZOFFSETFROM:-0500
TZOFFSETTO:-0600
TZNAME:CST
DTSTART:20271107T070000
END:STANDARD
END:VTIMEZONE
BEGIN:VEVENT
DTSTART;TZID=America/Chicago:20260116T100000
DTEND;TZID=America/Chicago:20260116T140000
DTSTAMP:20260419T220917
CREATED:20260114T154958Z
LAST-MODIFIED:20260225T200557Z
UID:10000015-1768557600-1768572000@uabstvincents.org
SUMMARY:UAB St. Vincent's East Bariatric Surgery Pre Operative 1:1 Dietitian Insurance Evaluation (By Appointment Only)
DESCRIPTION:Our Bariatric Surgery Pre-Operative 1:1 Dietitian Insurance Evaluation is a required\, individualized nutrition assessment for patients whose insurance plans mandate a one-on-one dietitian visit in addition to completion of a bariatric group nutrition class. This appointment evaluates dietary history\, prior weight management efforts\, readiness for lifestyle change\, and pre-operative nutrition knowledge\, with documentation provided to support medical necessity and surgical clearance.  \nAppointments are by referral and scheduled by bariatric program staff only. Patient self-registration is not permitted. \nAppointments are   in length and can be completed virtually via ZOOM or in person in the UAB St. Vincent’s East Bariatric Center. 
URL:https://uabstvincents.org/event/preopdietitianeval/
LOCATION:https://uabstvincents.org/event/preopdietitianeval/
CATEGORIES:Bariatric Events
END:VEVENT
BEGIN:VEVENT
DTSTART;VALUE=DATE:20251209
DTEND;VALUE=DATE:20251224
DTSTAMP:20260419T220917
CREATED:20251205T191217Z
LAST-MODIFIED:20260225T200609Z
UID:10000029-1765238400-1766534399@uabstvincents.org
SUMMARY:Thirty Minute Birth Suites Hospital Tour ONLY/ Birth Wish is not included
DESCRIPTION:Come tour with us!  This is a great opportunity for expecting parents to get familiar with the birthing experience at UAB St. Vincent’s Hospital.  Touring the Birth Suites\, OB Emergency Department\, and the Maternity Support Center – can really help you feel more prepared and comfortable when the time comes! \nThe tour starts in our Maternity Support Center – WCC Suite 410. \nTour size is limited\, so please sign up early! Available Sessions are listed below.
URL:https://uabstvincents.org/event/thirty-minute-birth-suites-hospital-tour-only-birth-wish-is-not-included-2/
LOCATION:Locations
CATEGORIES:In Person Event,Maternity Events
END:VEVENT
END:VCALENDAR